BEGIN:VCALENDAR
VERSION:2.0
PRODID:-//St. Heinrich und Kunigunde Pirna - ECPv6.15.20//NONSGML v1.0//EN
CALSCALE:GREGORIAN
METHOD:PUBLISH
X-WR-CALNAME:St. Heinrich und Kunigunde Pirna
X-ORIGINAL-URL:https://kath-kirche-pirna.de
X-WR-CALDESC:Veranstaltungen für St. Heinrich und Kunigunde Pirna
REFRESH-INTERVAL;VALUE=DURATION:PT1H
X-Robots-Tag:noindex
X-PUBLISHED-TTL:PT1H
BEGIN:VTIMEZONE
TZID:Europe/Berlin
BEGIN:DAYLIGHT
TZOFFSETFROM:+0100
TZOFFSETTO:+0200
TZNAME:CEST
DTSTART:20230326T010000
END:DAYLIGHT
BEGIN:STANDARD
TZOFFSETFROM:+0200
TZOFFSETTO:+0100
TZNAME:CET
DTSTART:20231029T010000
END:STANDARD
BEGIN:DAYLIGHT
TZOFFSETFROM:+0100
TZOFFSETTO:+0200
TZNAME:CEST
DTSTART:20240331T010000
END:DAYLIGHT
BEGIN:STANDARD
TZOFFSETFROM:+0200
TZOFFSETTO:+0100
TZNAME:CET
DTSTART:20241027T010000
END:STANDARD
BEGIN:DAYLIGHT
TZOFFSETFROM:+0100
TZOFFSETTO:+0200
TZNAME:CEST
DTSTART:20250330T010000
END:DAYLIGHT
BEGIN:STANDARD
TZOFFSETFROM:+0200
TZOFFSETTO:+0100
TZNAME:CET
DTSTART:20251026T010000
END:STANDARD
END:VTIMEZONE
BEGIN:VEVENT
DTSTART;VALUE=DATE:20240419
DTEND;VALUE=DATE:20240422
DTSTAMP:20260423T165809
CREATED:20231205T164048Z
LAST-MODIFIED:20231205T164441Z
UID:12861-1713484800-1713743999@kath-kirche-pirna.de
SUMMARY:Familienwochenende in Naundorf
DESCRIPTION:
URL:https://kath-kirche-pirna.de/veranstaltung/familienwochenende-in-naundorf/
END:VEVENT
END:VCALENDAR