BEGIN:VCALENDAR
VERSION:2.0
PRODID:-//St. Heinrich und Kunigunde Pirna - ECPv6.15.20//NONSGML v1.0//EN
CALSCALE:GREGORIAN
METHOD:PUBLISH
X-ORIGINAL-URL:https://kath-kirche-pirna.de
X-WR-CALDESC:Veranstaltungen für St. Heinrich und Kunigunde Pirna
REFRESH-INTERVAL;VALUE=DURATION:PT1H
X-Robots-Tag:noindex
X-PUBLISHED-TTL:PT1H
BEGIN:VTIMEZONE
TZID:Europe/Berlin
BEGIN:DAYLIGHT
TZOFFSETFROM:+0100
TZOFFSETTO:+0200
TZNAME:CEST
DTSTART:20240331T010000
END:DAYLIGHT
BEGIN:STANDARD
TZOFFSETFROM:+0200
TZOFFSETTO:+0100
TZNAME:CET
DTSTART:20241027T010000
END:STANDARD
BEGIN:DAYLIGHT
TZOFFSETFROM:+0100
TZOFFSETTO:+0200
TZNAME:CEST
DTSTART:20250330T010000
END:DAYLIGHT
BEGIN:STANDARD
TZOFFSETFROM:+0200
TZOFFSETTO:+0100
TZNAME:CET
DTSTART:20251026T010000
END:STANDARD
BEGIN:DAYLIGHT
TZOFFSETFROM:+0100
TZOFFSETTO:+0200
TZNAME:CEST
DTSTART:20260329T010000
END:DAYLIGHT
BEGIN:STANDARD
TZOFFSETFROM:+0200
TZOFFSETTO:+0100
TZNAME:CET
DTSTART:20261025T010000
END:STANDARD
END:VTIMEZONE
BEGIN:VEVENT
DTSTART;VALUE=DATE:20251207
DTEND;VALUE=DATE:20251208
DTSTAMP:20260423T024340
CREATED:20250111T142322Z
LAST-MODIFIED:20250111T143040Z
UID:14212-1765065600-1765151999@kath-kirche-pirna.de
SUMMARY:Pirna: Familiengottesdienst anschließend Gemeindetreff
DESCRIPTION:
URL:https://kath-kirche-pirna.de/veranstaltung/pirna-familiengottesdienst-anschliessend-gemeindetreff-10/
END:VEVENT
BEGIN:VEVENT
DTSTART;TZID=Europe/Berlin:20251207T140000
DTEND;TZID=Europe/Berlin:20251207T170000
DTSTAMP:20260423T024340
CREATED:20251106T154647Z
LAST-MODIFIED:20251106T154834Z
UID:15141-1765116000-1765126800@kath-kirche-pirna.de
SUMMARY:Aussendungsfeier Friedenslicht
DESCRIPTION:
URL:https://kath-kirche-pirna.de/veranstaltung/aussendungsfeier-friedenslicht/
ATTACH;FMTTYPE=application/pdf:https://kath-kirche-pirna.de/app/uploads/2025/11/2025_saechs.Aussendungsfeier-Friedenslicht_Plakat.pdf
END:VEVENT
END:VCALENDAR