BEGIN:VCALENDAR
VERSION:2.0
PRODID:-//St. Heinrich und Kunigunde Pirna - ECPv6.15.20//NONSGML v1.0//EN
CALSCALE:GREGORIAN
METHOD:PUBLISH
X-ORIGINAL-URL:https://kath-kirche-pirna.de
X-WR-CALDESC:Veranstaltungen für St. Heinrich und Kunigunde Pirna
REFRESH-INTERVAL;VALUE=DURATION:PT1H
X-Robots-Tag:noindex
X-PUBLISHED-TTL:PT1H
BEGIN:VTIMEZONE
TZID:Europe/Berlin
BEGIN:DAYLIGHT
TZOFFSETFROM:+0100
TZOFFSETTO:+0200
TZNAME:CEST
DTSTART:20240331T010000
END:DAYLIGHT
BEGIN:STANDARD
TZOFFSETFROM:+0200
TZOFFSETTO:+0100
TZNAME:CET
DTSTART:20241027T010000
END:STANDARD
BEGIN:DAYLIGHT
TZOFFSETFROM:+0100
TZOFFSETTO:+0200
TZNAME:CEST
DTSTART:20250330T010000
END:DAYLIGHT
BEGIN:STANDARD
TZOFFSETFROM:+0200
TZOFFSETTO:+0100
TZNAME:CET
DTSTART:20251026T010000
END:STANDARD
BEGIN:DAYLIGHT
TZOFFSETFROM:+0100
TZOFFSETTO:+0200
TZNAME:CEST
DTSTART:20260329T010000
END:DAYLIGHT
BEGIN:STANDARD
TZOFFSETFROM:+0200
TZOFFSETTO:+0100
TZNAME:CET
DTSTART:20261025T010000
END:STANDARD
END:VTIMEZONE
BEGIN:VEVENT
DTSTART;TZID=Europe/Berlin:20251212T180000
DTEND;TZID=Europe/Berlin:20251212T200000
DTSTAMP:20260422T190300
CREATED:20251106T153732Z
LAST-MODIFIED:20251106T153944Z
UID:15134-1765562400-1765569600@kath-kirche-pirna.de
SUMMARY:Ökumenisches Adventsjugendgottesdienst
DESCRIPTION:
URL:https://kath-kirche-pirna.de/veranstaltung/oekumenisches-adventsjugendgottesdienst/
LOCATION:Kino Königstein
CATEGORIES:Junge Erwachsene
ATTACH;FMTTYPE=image/png:https://kath-kirche-pirna.de/app/uploads/2025/11/Oekumenischer-Jugendgottesdienst.png
END:VEVENT
END:VCALENDAR